BEGIN:VCALENDAR
VERSION:2.0
PRODID:-//Azelis//EN
CALSCALE:GREGORIAN
METHOD:PUBLISH
BEGIN:VTIMEZONE
TZID:America/New_York
BEGIN:STANDARD
DTSTART:20171105T060000
TZOFFSETTO:-0500
TZOFFSETFROM:-0400
RRULE:FREQ=YEARLY;BYMONTH=11;BYDAY=1SU
END:STANDARD
BEGIN:DAYLIGHT
DTSTART:20170312T070000
TZOFFSETTO:-0400
TZOFFSETFROM:-0500
RRULE:FREQ=YEARLY;BYMONTH=3;BYDAY=2SU
END:DAYLIGHT
END:VTIMEZONE
BEGIN:VEVENT
UID:azelis-event-id-1685
DTSTART:20171208
DTEND:20171208
SUMMARY:NECA 2017 New York
DESCRIPTION:
LOCATION:New York\, USA
URL:http://www.necainc.com/events/neca-new-york-city/
DTSTAMP:20260424T135535Z
END:VEVENT
END:VCALENDAR
