BEGIN:VCALENDAR
VERSION:2.0
PRODID:-//Azelis//EN
CALSCALE:GREGORIAN
METHOD:PUBLISH
BEGIN:VTIMEZONE
TZID:America/New_York
BEGIN:STANDARD
DTSTART:20181104T060000
TZOFFSETTO:-0500
TZOFFSETFROM:-0400
RRULE:FREQ=YEARLY;BYMONTH=11;BYDAY=1SU
END:STANDARD
BEGIN:DAYLIGHT
DTSTART:20180311T070000
TZOFFSETTO:-0400
TZOFFSETFROM:-0500
RRULE:FREQ=YEARLY;BYMONTH=3;BYDAY=2SU
END:DAYLIGHT
END:VTIMEZONE
BEGIN:VEVENT
UID:azelis-event-id-1688
DTSTART:20180930
DTEND:20181003
SUMMARY:Graph Expo 18
DESCRIPTION:
LOCATION:Chicago\, Illinois\, USA
URL:http://print2017.com/FutureShowDates.aspx
DTSTAMP:20260424T134203Z
END:VEVENT
END:VCALENDAR
