BEGIN:VCALENDAR
VERSION:2.0
PRODID:-//Azelis//EN
CALSCALE:GREGORIAN
METHOD:PUBLISH
BEGIN:VTIMEZONE
TZID:America/New_York
BEGIN:STANDARD
DTSTART:20171105T060000
TZOFFSETTO:-0500
TZOFFSETFROM:-0400
RRULE:FREQ=YEARLY;BYMONTH=11;BYDAY=1SU
END:STANDARD
BEGIN:DAYLIGHT
DTSTART:20170312T070000
TZOFFSETTO:-0400
TZOFFSETFROM:-0500
RRULE:FREQ=YEARLY;BYMONTH=3;BYDAY=2SU
END:DAYLIGHT
END:VTIMEZONE
BEGIN:VEVENT
UID:azelis-event-id-927
DTSTART:20170531
DTEND:20170601
SUMMARY:Chemspec Europe
DESCRIPTION:
LOCATION:Munich\, Germany 
URL:http://www.chemspeceurope.com
DTSTAMP:20260424T134028Z
END:VEVENT
END:VCALENDAR
